BEGIN:VCALENDAR
VERSION:2.0
PRODID:-//Association des Parents de Côte-des-Neiges - ECPv4.9.8//NONSGML v1.0//EN
CALSCALE:GREGORIAN
METHOD:PUBLISH
X-WR-CALNAME:Association des Parents de Côte-des-Neiges
X-ORIGINAL-URL:http://www.new.association-parents-cdn.org
X-WR-CALDESC:Événements pour Association des Parents de Côte-des-Neiges
BEGIN:VTIMEZONE
TZID:America/New_York
BEGIN:DAYLIGHT
TZOFFSETFROM:-0500
TZOFFSETTO:-0400
TZNAME:EDT
DTSTART:20190310T070000
END:DAYLIGHT
BEGIN:STANDARD
TZOFFSETFROM:-0400
TZOFFSETTO:-0500
TZNAME:EST
DTSTART:20191103T060000
END:STANDARD
END:VTIMEZONE
BEGIN:VEVENT
DTSTART;TZID="America/New_York":20190619T110000
DTEND;TZID="America/New_York":20190718T120000
DTSTAMP:20260420T151845
CREATED:20160316T165245Z
LAST-MODIFIED:20190614T033649Z
UID:618-1560942000-1563451200@www.new.association-parents-cdn.org
SUMMARY:Groupe de jeux 0-5 ans
DESCRIPTION:\n					\n						\n\n					\n				\nGroupe de jeux 0-5 ans\nLes groupe de jeux 0-5 ans sont des ateliers où nos animateurs apprennent aux parents différentes façons de stimuler le développement de leurs enfants par le jeu. Durant ces ateliers\, les enfants pratiquent leurs compétences linguistiques\, leur coordination ainsi que leur motricité. De plus\, c’est une expérience de socialisation\, puisqu’ils apprennent à être patient\, à attendre leur tour et à partager en jouant avec d’autres enfants.\nDina 514-341-2844 \n	\n		Share This Event!\n		FacebookTwitterLinkedInPinterestEmail	\n	
URL:http://www.new.association-parents-cdn.org/calendrier/jeux-0-5-ans/
LOCATION:Parc récréatif\, 6767 Côte-Des-Neiges\, bureau 498\, 4ème étage\, Montreal\, Québec\, H3S 2T6\, Canada
CATEGORIES:Parents-Enfants
ATTACH;FMTTYPE=image/jpeg:http://www.new.association-parents-cdn.org/wp-content/uploads/2016/03/children-2608936_640.jpg
ORGANIZER;CN="Dina":MAILTO:coordination@association-parents-cdn.org
END:VEVENT
END:VCALENDAR