BEGIN:VCALENDAR
VERSION:2.0
PRODID:-//Association des Parents de Côte-des-Neiges - ECPv4.9.8//NONSGML v1.0//EN
CALSCALE:GREGORIAN
METHOD:PUBLISH
X-WR-CALNAME:Association des Parents de Côte-des-Neiges
X-ORIGINAL-URL:http://www.new.association-parents-cdn.org
X-WR-CALDESC:Événements pour Association des Parents de Côte-des-Neiges
BEGIN:VTIMEZONE
TZID:America/New_York
BEGIN:DAYLIGHT
TZOFFSETFROM:-0500
TZOFFSETTO:-0400
TZNAME:EDT
DTSTART:20190310T070000
END:DAYLIGHT
BEGIN:STANDARD
TZOFFSETFROM:-0400
TZOFFSETTO:-0500
TZNAME:EST
DTSTART:20191103T060000
END:STANDARD
END:VTIMEZONE
BEGIN:VEVENT
DTSTART;TZID="America/New_York":20190620T060000
DTEND;TZID="America/New_York":20190731T070000
DTSTAMP:20260420T152142
CREATED:20160316T164710Z
LAST-MODIFIED:20190614T033734Z
UID:610-1561010400-1564556400@www.new.association-parents-cdn.org
SUMMARY:Contes du dimanche
DESCRIPTION:\n					\n						\n\n					\n				\nContes du dimanche\nCet atelier s’adresse aux parents d’enfants 2-5 ans qui aimeraient agir efficacement comme partenaires engagés dans la réussite scolaire de leurs enfants. Chaque Dimanche\, les enfants apprennent à écouter des contes ou encore faire du bricolage\, tout en utilisant des mots simples de la langue française\,répéter des chansons simples qui traitent de différents thèmes\, faire des jeux moteurs. Les parents qui sont dans un autre local\, sont sensibilisés à certains repères à développer chez leurs enfants avant l’entrée en maternelle.\nMerci de vous inscrire auprès du contact pour cet événement.\n \nDina 514-341-2844\n	\n		Share This Event!\n		FacebookTwitterLinkedInPinterestEmail	\n	
URL:http://www.new.association-parents-cdn.org/calendrier/contes-dimanche/
LOCATION:Salle de motricité\, 6767 Côte-Des-Neiges\, bureau 498\, 4ème étage\, Montreal\, QC\, H3S 2T6\, Canada
CATEGORIES:Parents-Enfants
ATTACH;FMTTYPE=image/jpeg:http://www.new.association-parents-cdn.org/wp-content/uploads/2016/03/fairy-1462988_640.jpg
ORGANIZER;CN="Dina":MAILTO:coordination@association-parents-cdn.org
END:VEVENT
END:VCALENDAR